BEGIN:VCALENDAR
VERSION:2.0
PRODID:-//Contratero//ES
CALSCALE:GREGORIAN
METHOD:PUBLISH
BEGIN:VEVENT
UID:CT 91/2025-e@contratero.es
DTSTAMP:20260426T034956Z
DTSTART:20251215T235959
DTEND:20251216T005959
SUMMARY:Cierre: Implantación\, migración de datos y puesta en funci
DESCRIPTION:Implantación\, migración de datos y puesta en funcionamiento de una aplicación informática de gestión del padrón municipal de habitantes y de los procesos electorales del Ayuntamiento de Vilagarcía de ...\\n\\nOrganismo: Junta de Gobierno del Ayuntamiento de Vilagarcía de Arousa\\n\\nVer en Contratero: https://contratero.es/contracts/CT 91/2025-e
URL:https://contratero.es/contracts/CT 91/2025-e
STATUS:CONFIRMED
BEGIN:VALARM
TRIGGER:-P1D
ACTION:DISPLAY
DESCRIPTION:Recordatorio: Implantación\, migración de dat
END:VALARM
END:VEVENT
END:VCALENDAR